BEGIN:VCALENDAR
VERSION:2.0
PRODID:-//Islamic Society of Corona Norco - ECPv6.15.20//NONSGML v1.0//EN
CALSCALE:GREGORIAN
METHOD:PUBLISH
X-ORIGINAL-URL:https://coronamuslims.com
X-WR-CALDESC:Events for Islamic Society of Corona Norco
REFRESH-INTERVAL;VALUE=DURATION:PT1H
X-Robots-Tag:noindex
X-PUBLISHED-TTL:PT1H
BEGIN:VTIMEZONE
TZID:Pacific/Honolulu
BEGIN:STANDARD
TZOFFSETFROM:-1000
TZOFFSETTO:-1000
TZNAME:HST
DTSTART:20210101T000000
END:STANDARD
END:VTIMEZONE
BEGIN:VEVENT
DTSTART;TZID=Pacific/Honolulu:20221209T180000
DTEND;TZID=Pacific/Honolulu:20221209T190000
DTSTAMP:20260425T172835
CREATED:20221207T080706Z
LAST-MODIFIED:20221207T081849Z
UID:5801-1670608800-1670612400@coronamuslims.com
SUMMARY:Story of the Prophet Ibrahim عليه السلام
DESCRIPTION:[vc_row][vc_column][vc_single_image image=”5802″ img_size=”full” alignment=”center” style=”vc_box_shadow_3d” onclick=”link_image”][/vc_column][/vc_row]
URL:https://coronamuslims.com/event/the-prophet-ibrahim-as/
CATEGORIES:ISCN Middle Schooler
END:VEVENT
END:VCALENDAR